BEGIN:VCALENDAR
VERSION:2.0
PRODID:-//Southcoast Health - ECPv6.15.6//NONSGML v1.0//EN
CALSCALE:GREGORIAN
METHOD:PUBLISH
X-ORIGINAL-URL:https://www.southcoast.org/pt
X-WR-CALDESC:Eventos para Southcoast Health
REFRESH-INTERVAL;VALUE=DURATION:PT1H
X-Robots-Tag:noindex
X-PUBLISHED-TTL:PT1H
BEGIN:VTIMEZONE
TZID:America/New_York
BEGIN:DAYLIGHT
TZOFFSETFROM:-0500
TZOFFSETTO:-0400
TZNAME:EDT
DTSTART:20250309T070000
END:DAYLIGHT
BEGIN:STANDARD
TZOFFSETFROM:-0400
TZOFFSETTO:-0500
TZNAME:EST
DTSTART:20251102T060000
END:STANDARD
BEGIN:DAYLIGHT
TZOFFSETFROM:-0500
TZOFFSETTO:-0400
TZNAME:EDT
DTSTART:20260308T070000
END:DAYLIGHT
BEGIN:STANDARD
TZOFFSETFROM:-0400
TZOFFSETTO:-0500
TZNAME:EST
DTSTART:20261101T060000
END:STANDARD
BEGIN:DAYLIGHT
TZOFFSETFROM:-0500
TZOFFSETTO:-0400
TZNAME:EDT
DTSTART:20270314T070000
END:DAYLIGHT
BEGIN:STANDARD
TZOFFSETFROM:-0400
TZOFFSETTO:-0500
TZNAME:EST
DTSTART:20271107T060000
END:STANDARD
END:VTIMEZONE
BEGIN:VEVENT
DTSTART;TZID=America/New_York:20260129T170000
DTEND;TZID=America/New_York:20260129T180000
DTSTAMP:20260422T183801
CREATED:20260115T150024Z
LAST-MODIFIED:20260122T151921Z
UID:10005329-1769706000-1769709600@www.southcoast.org
SUMMARY:Unclogging Arteries: Advances in Interventional Cardiology Online Seminar
DESCRIPTION:If you or someone you love is living with heart disease\, it’s easy to feel overwhelmed. But there’s never been a more hopeful time for heart care. \nJoin Nosheen Javed\, MD\, Associate Chief of Heart & Vascular\, Medical Director\, Cardiac Cath Lab for a free online seminar and learn how today’s minimally invasive heart procedures are opening arteries\, restoring blood flow and helping patients return to the lives they love. \nLearn About: \n\nHow blocked arteries are treated today\nNew catheter-based procedures that avoid open-heart surgery\nWhat recovery looks like now compared to years ago\nHow these advances can improve energy\, breathing and quality of life\n\n  \nRegister today and take a hopeful step forward for your heart.
URL:https://www.southcoast.org/pt/event/unclogging-arteries-advances-in-interventional-cardiology-online-seminar/
CATEGORIES:Seminars
ATTACH;FMTTYPE=image/jpeg:https://www.southcoast.org/wp-content/uploads/2026/01/GettyImages-2104034439.jpg
END:VEVENT
END:VCALENDAR