BEGIN:VCALENDAR
VERSION:2.0
PRODID:-//Southcoast Health - ECPv6.15.6//NONSGML v1.0//EN
CALSCALE:GREGORIAN
METHOD:PUBLISH
X-WR-CALNAME:Southcoast Health
X-ORIGINAL-URL:https://www.southcoast.org/pt
X-WR-CALDESC:Eventos para Southcoast Health
REFRESH-INTERVAL;VALUE=DURATION:PT1H
X-Robots-Tag:noindex
X-PUBLISHED-TTL:PT1H
BEGIN:VTIMEZONE
TZID:UTC
BEGIN:STANDARD
TZOFFSETFROM:+0000
TZOFFSETTO:+0000
TZNAME:UTC
DTSTART:20240101T000000
END:STANDARD
END:VTIMEZONE
BEGIN:VEVENT
DTSTART;TZID=UTC:20251210T133000
DTEND;TZID=UTC:20251210T150000
DTSTAMP:20260422T232309
CREATED:20250730T195554Z
LAST-MODIFIED:20250806T184042Z
UID:10000248-1765373400-1765378800@www.southcoast.org
SUMMARY:Widow and Widower Grief Support Group
DESCRIPTION:In-Person Support Group \nGrieving is an important emotional process for all those who suffer a loss. Although grief is normal\, it can be a distressing and often confusing time in one’s life as it can affect every aspect of a person’s day-to-day life. People express their grief in different ways and according to their own unique time schedules. However\, no matter how we do it\, grieving is an important part of the healing process after experiencing the death of someone who was a major part of our life. \nAt Southcoast Health at Home’s Supportive Care Center\, we believe that you do not need to walk alone through the journey of grief. Our Grief Support groups and workshops are wonderful ways to gain peer support and companions along the journey through grief. A variety of support groups and workshops are offered throughout the year and are free and open to the public. \nRegistration is required. To register\, contact Nancy Arnold by email at arnoldn@southcoast.org or by phone at 508-973-3227.
URL:https://www.southcoast.org/pt/event/21765/2025-12-10/
LOCATION:Somerset Public Library\, 1464 County Street\, Somerset\, MA\, 02726\, United States
CATEGORIES:Support Groups
ATTACH;FMTTYPE=image/png:https://www.southcoast.org/wp-content/uploads/2025/07/Widow-and-Widower-Support-Group-Events-Featured-Image.png
END:VEVENT
END:VCALENDAR