BEGIN:VCALENDAR
VERSION:2.0
PRODID:-//Southcoast Health - ECPv6.15.6//NONSGML v1.0//EN
CALSCALE:GREGORIAN
METHOD:PUBLISH
X-ORIGINAL-URL:https://www.southcoast.org/pt
X-WR-CALDESC:Eventos para Southcoast Health
REFRESH-INTERVAL;VALUE=DURATION:PT1H
X-Robots-Tag:noindex
X-PUBLISHED-TTL:PT1H
BEGIN:VTIMEZONE
TZID:UTC
BEGIN:STANDARD
TZOFFSETFROM:+0000
TZOFFSETTO:+0000
TZNAME:UTC
DTSTART:20240101T000000
END:STANDARD
END:VTIMEZONE
BEGIN:VEVENT
DTSTART;TZID=UTC:20251106T093000
DTEND;TZID=UTC:20251106T103000
DTSTAMP:20260423T033618
CREATED:20251017T013753Z
LAST-MODIFIED:20251017T020238Z
UID:10000596-1762421400-1762425000@www.southcoast.org
SUMMARY:Grieving During the Holidays Workshop
DESCRIPTION:Balancing the already busy holiday season with the sadness of not being able to share the holidays with our loved ones can feel overwhelming. This 1-hour workshop provides tips and ideas to help us navigate the challenges of this holiday time\, honor the memory of our loved one and care for our own needs as we grieve. \nThis workshop is free of charge and available to the public. Registration is required. You can register with Nancy Arnold at 508-973-3436 or arnoldn@southcoast.org. \nLocation: Mattapoisett Council on Aging
URL:https://www.southcoast.org/pt/event/grieving-during-the-holidays-workshop/
LOCATION:Mattapoisett Council on Aging\, 17 Barstow Street\, Mattapoisett\, MA\, 02739\, United States
CATEGORIES:Community Event,Support Groups
ATTACH;FMTTYPE=image/png:https://www.southcoast.org/wp-content/uploads/2025/10/Grieving-During-the-Holidays.png
ORGANIZER;CN="Nancy Arnold":MAILTO:arnoldn@southcoast.org
END:VEVENT
END:VCALENDAR