BEGIN:VCALENDAR
VERSION:2.0
PRODID:-//Southcoast Health - ECPv6.15.6//NONSGML v1.0//EN
CALSCALE:GREGORIAN
METHOD:PUBLISH
X-ORIGINAL-URL:https://www.southcoast.org
X-WR-CALDESC:Events for Southcoast Health
REFRESH-INTERVAL;VALUE=DURATION:PT1H
X-Robots-Tag:noindex
X-PUBLISHED-TTL:PT1H
BEGIN:VTIMEZONE
TZID:America/New_York
BEGIN:DAYLIGHT
TZOFFSETFROM:-0500
TZOFFSETTO:-0400
TZNAME:EDT
DTSTART:20250309T070000
END:DAYLIGHT
BEGIN:STANDARD
TZOFFSETFROM:-0400
TZOFFSETTO:-0500
TZNAME:EST
DTSTART:20251102T060000
END:STANDARD
BEGIN:DAYLIGHT
TZOFFSETFROM:-0500
TZOFFSETTO:-0400
TZNAME:EDT
DTSTART:20260308T070000
END:DAYLIGHT
BEGIN:STANDARD
TZOFFSETFROM:-0400
TZOFFSETTO:-0500
TZNAME:EST
DTSTART:20261101T060000
END:STANDARD
BEGIN:DAYLIGHT
TZOFFSETFROM:-0500
TZOFFSETTO:-0400
TZNAME:EDT
DTSTART:20270314T070000
END:DAYLIGHT
BEGIN:STANDARD
TZOFFSETFROM:-0400
TZOFFSETTO:-0500
TZNAME:EST
DTSTART:20271107T060000
END:STANDARD
END:VTIMEZONE
BEGIN:VEVENT
DTSTART;TZID=America/New_York:20260401T170000
DTEND;TZID=America/New_York:20260401T180000
DTSTAMP:20260423T033915
CREATED:20260326T151449Z
LAST-MODIFIED:20260326T161413Z
UID:10006211-1775062800-1775066400@www.southcoast.org
SUMMARY:Knee Pain Solutions Online Seminar
DESCRIPTION:Whether you’re dealing with arthritis\, injury or overall wear and tear of the knee\, ​Southcoast Health Orthopedics​ has a full range of surgical and non-surgical options to get you back to doing the things that you love\, pain free. \nJoin ​Joseph Lifrak\, MD​ on Wednesday\, April 1 at 5pm for a free Knee Pain Solutions Online Seminar\, and learn about: \n\nNon-surgical treatment options like physical therapy and injections\nSurgical solutions: traditional knee replacement vs. robotic-assisted surgery\nThe benefits of ​Mako Robotic Arm-Assisted Surgery​\nTips for knee pain prevention and rehabilitation
URL:https://www.southcoast.org/event/knee-pain-solutions-online-seminar/
CATEGORIES:Seminars
ATTACH;FMTTYPE=image/png:https://www.southcoast.org/wp-content/uploads/2026/03/AdobeStock_1757769363-scaled.png
END:VEVENT
END:VCALENDAR