BEGIN:VCALENDAR
VERSION:2.0
PRODID:-//Southcoast Health - ECPv6.15.6//NONSGML v1.0//EN
CALSCALE:GREGORIAN
METHOD:PUBLISH
X-ORIGINAL-URL:https://www.southcoast.org/es
X-WR-CALDESC:Eventos para Southcoast Health
REFRESH-INTERVAL;VALUE=DURATION:PT1H
X-Robots-Tag:noindex
X-PUBLISHED-TTL:PT1H
BEGIN:VTIMEZONE
TZID:UTC
BEGIN:STANDARD
TZOFFSETFROM:+0000
TZOFFSETTO:+0000
TZNAME:UTC
DTSTART:20250101T000000
END:STANDARD
END:VTIMEZONE
BEGIN:VTIMEZONE
TZID:America/New_York
BEGIN:DAYLIGHT
TZOFFSETFROM:-0500
TZOFFSETTO:-0400
TZNAME:EDT
DTSTART:20250309T070000
END:DAYLIGHT
BEGIN:STANDARD
TZOFFSETFROM:-0400
TZOFFSETTO:-0500
TZNAME:EST
DTSTART:20251102T060000
END:STANDARD
BEGIN:DAYLIGHT
TZOFFSETFROM:-0500
TZOFFSETTO:-0400
TZNAME:EDT
DTSTART:20260308T070000
END:DAYLIGHT
BEGIN:STANDARD
TZOFFSETFROM:-0400
TZOFFSETTO:-0500
TZNAME:EST
DTSTART:20261101T060000
END:STANDARD
BEGIN:DAYLIGHT
TZOFFSETFROM:-0500
TZOFFSETTO:-0400
TZNAME:EDT
DTSTART:20270314T070000
END:DAYLIGHT
BEGIN:STANDARD
TZOFFSETFROM:-0400
TZOFFSETTO:-0500
TZNAME:EST
DTSTART:20271107T060000
END:STANDARD
END:VTIMEZONE
BEGIN:VEVENT
DTSTART;TZID=UTC:20260429T103000
DTEND;TZID=UTC:20260429T123000
DTSTAMP:20260423T054714
CREATED:20251226T161522Z
LAST-MODIFIED:20251226T162403Z
UID:10005023-1777458600-1777465800@www.southcoast.org
SUMMARY:Baby Café Breastfeeding Support Group - Fall River
DESCRIPTION:Southcoast Health is proud to host Baby Café\, a friendly and comfortable drop-in session for pregnant and breastfeeding mothers to learn more about breastfeeding. Mothers can relax\, share tips and techniques\, and socialize with other moms. Peer support and one-on-one help from specially trained health professionals is available\, including professional lactation support. \nThe Baby Café program is led locally by our Southcoast Health Lactation Team as a free service for pregnant mothers in our community. \n\nLearn more \n\nTo speak with a lactation consultant\, call:\nCharlton Memorial Hospital — 508-973-6455\nSt. Luke’s Hospital — 508-997-6455
URL:https://www.southcoast.org/es/event/baby-cafe-breastfeeding-support-group-fall-river/2026-04-29/
LOCATION:People Incorporated\, 4 South Main Street\, Fall River\, United States
CATEGORIES:Support Groups
ATTACH;FMTTYPE=image/jpeg:https://www.southcoast.org/wp-content/uploads/2025/08/Baby-Cafe-11.5.24-scaled.jpg
END:VEVENT
BEGIN:VEVENT
DTSTART;TZID=America/New_York:20260429T173000
DTEND;TZID=America/New_York:20260429T210000
DTSTAMP:20260423T054714
CREATED:20260303T200141Z
LAST-MODIFIED:20260323T182248Z
UID:10005876-1777483800-1777496400@www.southcoast.org
SUMMARY:Light the Way
DESCRIPTION:Join us for an evening of compassion & hope. Light the Way is the signature event of Southcoast Health at Home. Featuring a silent auction\, premium raffle and an incredible luminary display. \n\n\nProceeds benefit Southcoast Health at Home’s Compassion Fund providing additional care hours for hospice patients and their families.
URL:https://www.southcoast.org/es/event/light-the-way/
LOCATION:The Century House\, 107 S Main St\, Acushnet\, MA\, 02743\, United States
CATEGORIES:Community Event,Philanthropy
ATTACH;FMTTYPE=image/png:https://www.southcoast.org/wp-content/uploads/2026/02/LightTheWay-1-1024x764-1.png
END:VEVENT
END:VCALENDAR